BEGIN:VCALENDAR
VERSION:2.0
PRODID:-//artifica.one//Vauhallan//FR
CALSCALE:GREGORIAN
METHOD:PUBLISH
BEGIN:VEVENT
SUMMARY:Parlons vélo
UID:3594
SEQUENCE:0
STATUS:CONFIRMED
TRANSP:TRANSPARENT
DTSTART:20260526T060000Z
DTEND:20260603T180000Z
DTSTAMP:20260421T131842Z
CATEGORIES:Culture / événements, Environnement
DESCRIPTION:Le rendez-vous annuel dédié au vélo fête ses 1
 0 ans !
URL:https://www.vauhallan.fr/agenda/parlons-velo-3594
END:VEVENT
END:VCALENDAR
