BEGIN:VCALENDAR
VERSION:2.0
PRODID:-//artifica.one//Vauhallan//FR
CALSCALE:GREGORIAN
METHOD:PUBLISH
BEGIN:VEVENT
SUMMARY:Le Castor Fou
UID:482
SEQUENCE:0
STATUS:CONFIRMED
TRANSP:TRANSPARENT
DTSTART:20260613T060000Z
DTEND:20260613T180000Z
DTSTAMP:20220426T150555Z
CATEGORIES:Culture / événements, Manifestation, Sport
LOCATION:Terrain d'Évolution
 Allée des Écoles
 91430 VAUHALLAN 
GEO:48.733208;2.208189
DESCRIPTION:L'association l'Etoile Sportive de Vauhallan (ESV)
  organise la 28ème édition du Castor Fou, course
  nature !
URL:https://www.vauhallan.fr/agenda/le-castor-fou-482
END:VEVENT
END:VCALENDAR
